BEGIN:VCALENDAR
VERSION:2.0
PRODID:-//Asociación Peruana de Envases y Embalajes - ECPv6.15.18//NONSGML v1.0//EN
CALSCALE:GREGORIAN
METHOD:PUBLISH
X-ORIGINAL-URL:https://apee.org.pe
X-WR-CALDESC:Eventos para Asociación Peruana de Envases y Embalajes
REFRESH-INTERVAL;VALUE=DURATION:PT1H
X-Robots-Tag:noindex
X-PUBLISHED-TTL:PT1H
BEGIN:VTIMEZONE
TZID:UTC
BEGIN:STANDARD
TZOFFSETFROM:+0000
TZOFFSETTO:+0000
TZNAME:UTC
DTSTART:20240101T000000
END:STANDARD
END:VTIMEZONE
BEGIN:VEVENT
DTSTART;VALUE=DATE:20250916
DTEND;VALUE=DATE:20250920
DTSTAMP:20260422T084947
CREATED:20250122T020801Z
LAST-MODIFIED:20260305T203500Z
UID:10000006-1757980800-1758326399@apee.org.pe
SUMMARY:Feria Expo Envase 2025
DESCRIPTION:
URL:https://apee.org.pe/evento/feria-expo-envase-2025/
LOCATION:Buenos Aires\, Buenos Aires\, Argentina
CATEGORIES:Ferias
ATTACH;FMTTYPE=image/webp:https://apee.org.pe/wp-content/uploads/2025/01/argentina_min.webp
END:VEVENT
END:VCALENDAR