BEGIN:VCALENDAR
VERSION:2.0
PRODID:-//Asociación Peruana de Envases y Embalajes - ECPv6.15.18//NONSGML v1.0//EN
CALSCALE:GREGORIAN
METHOD:PUBLISH
X-WR-CALNAME:Asociación Peruana de Envases y Embalajes
X-ORIGINAL-URL:https://apee.org.pe
X-WR-CALDESC:Eventos para Asociación Peruana de Envases y Embalajes
REFRESH-INTERVAL;VALUE=DURATION:PT1H
X-Robots-Tag:noindex
X-PUBLISHED-TTL:PT1H
BEGIN:VTIMEZONE
TZID:America/Lima
BEGIN:STANDARD
TZOFFSETFROM:-0500
TZOFFSETTO:-0500
TZNAME:-05
DTSTART:20240101T000000
END:STANDARD
END:VTIMEZONE
BEGIN:VEVENT
DTSTART;TZID=America/Lima:20250604T080000
DTEND;TZID=America/Lima:20250605T170000
DTSTAMP:20260417T191445
CREATED:20250505T141417Z
LAST-MODIFIED:20260305T180137Z
UID:10000014-1749024000-1749142800@apee.org.pe
SUMMARY:CPP - Circular Plastics Packaging
DESCRIPTION:
URL:https://apee.org.pe/evento/cpp-circular-plastics-packaging/
LOCATION:Lima\, Lima\, Peru
CATEGORIES:pasados-2025
ATTACH;FMTTYPE=image/webp:https://apee.org.pe/wp-content/uploads/2025/05/imagen01.webp
END:VEVENT
END:VCALENDAR